BEGIN:VCALENDAR
VERSION:2.0
PRODID:-//OneGov//onegov.event//
BEGIN:VEVENT
SUMMARY:MOMO - Der Countdown läuft 
DTSTART:20250523T170000Z
DTEND:20250523T183000Z
DTSTAMP:20250320T180437Z
UID:theater-mit-musik-3-2025-05-23@onegov.event
CATEGORIES:
DESCRIPTION:
LAST-MODIFIED:20250320T180437Z
LOCATION:Pfarreisaal Meggen\, Schlösslistrasse 2
URL:https://www.musikschule-meggen.ch/event/theater-mit-musik-3-2025-05-23
END:VEVENT
END:VCALENDAR
