BEGIN:VCALENDAR
VERSION:2.0
PRODID:-//OneGov//onegov.event//
BEGIN:VEVENT
SUMMARY:Klassenkonzert Pirmin Setz und Michael Leherbauer
DTSTART:20250526T170000Z
DTEND:20250526T180000Z
DTSTAMP:20241021T135902Z
UID:klassenkonzert-pirmin-setz-und-michael-leherbauer-2-2025-05-26@onegov.
 event
CATEGORIES:
DESCRIPTION:
LAST-MODIFIED:20241021T135902Z
LOCATION:Aula Hofmatt 3
URL:https://www.musikschule-meggen.ch/event/klassenkonzert-pirmin-setz-und
 -michael-leherbauer-2-2025-05-26
END:VEVENT
END:VCALENDAR
